BEGIN:VCALENDAR
VERSION:2.0
PRODID:-//Gruenderfreunde.de - ECPv6.15.19//NONSGML v1.0//EN
CALSCALE:GREGORIAN
METHOD:PUBLISH
X-WR-CALNAME:Gruenderfreunde.de
X-ORIGINAL-URL:https://gruenderfreunde.de
X-WR-CALDESC:Veranstaltungen für Gruenderfreunde.de
REFRESH-INTERVAL;VALUE=DURATION:PT1H
X-Robots-Tag:noindex
X-PUBLISHED-TTL:PT1H
BEGIN:VTIMEZONE
TZID:Europe/Berlin
BEGIN:DAYLIGHT
TZOFFSETFROM:+0100
TZOFFSETTO:+0200
TZNAME:CEST
DTSTART:20190331T010000
END:DAYLIGHT
BEGIN:STANDARD
TZOFFSETFROM:+0200
TZOFFSETTO:+0100
TZNAME:CET
DTSTART:20191027T010000
END:STANDARD
BEGIN:DAYLIGHT
TZOFFSETFROM:+0100
TZOFFSETTO:+0200
TZNAME:CEST
DTSTART:20200329T010000
END:DAYLIGHT
BEGIN:STANDARD
TZOFFSETFROM:+0200
TZOFFSETTO:+0100
TZNAME:CET
DTSTART:20201025T010000
END:STANDARD
BEGIN:DAYLIGHT
TZOFFSETFROM:+0100
TZOFFSETTO:+0200
TZNAME:CEST
DTSTART:20210328T010000
END:DAYLIGHT
BEGIN:STANDARD
TZOFFSETFROM:+0200
TZOFFSETTO:+0100
TZNAME:CET
DTSTART:20211031T010000
END:STANDARD
END:VTIMEZONE
BEGIN:VEVENT
DTSTART;VALUE=DATE:20200401
DTEND;VALUE=DATE:20200404
DTSTAMP:20260421T222505
CREATED:20200122T153829Z
LAST-MODIFIED:20200122T153829Z
UID:40410-1585699200-1585958399@gruenderfreunde.de
SUMMARY:Google Analytics Conference
DESCRIPTION:9. Google Analytics Conference DACH\n1. bis 3. April 2020 in Wien \nDie GACon – das größte Fachevent der DACH-Region zur Google Marketing Platform – findet zum 9. Mal statt und widmet sich den Möglichkeiten zur effektiven Analyse von Zielgruppen und Nutzerverhalten – dem Grundstein für datengetriebene Entscheidungen und einem relevanteren Marketing. In intensiven Trainingsseminaren machen die absoluten Profis der Branche Marketingexperten fit für\nDigitalmarketing im Jahr 2020. \nteilen teilen teilen teilen 
URL:https://gruenderfreunde.de/event/google-analytics-conference/
LOCATION:Schloß Schönbrunn\, Schönbrunner Schloßstraße 47\, Wien\, 1130\, Schweiz
ATTACH;FMTTYPE=image/jpeg:https://gruenderfreunde.de/wp-content/uploads/GACON2020-OpenGraph4-1.jpg
END:VEVENT
END:VCALENDAR