BEGIN:VCALENDAR
VERSION:2.0
PRODID:-//Gruenderfreunde.de - ECPv6.15.19//NONSGML v1.0//EN
CALSCALE:GREGORIAN
METHOD:PUBLISH
X-WR-CALNAME:Gruenderfreunde.de
X-ORIGINAL-URL:https://gruenderfreunde.de
X-WR-CALDESC:Veranstaltungen für Gruenderfreunde.de
REFRESH-INTERVAL;VALUE=DURATION:PT1H
X-Robots-Tag:noindex
X-PUBLISHED-TTL:PT1H
BEGIN:VTIMEZONE
TZID:Europe/Berlin
BEGIN:DAYLIGHT
TZOFFSETFROM:+0100
TZOFFSETTO:+0200
TZNAME:CEST
DTSTART:20190331T010000
END:DAYLIGHT
BEGIN:STANDARD
TZOFFSETFROM:+0200
TZOFFSETTO:+0100
TZNAME:CET
DTSTART:20191027T010000
END:STANDARD
BEGIN:DAYLIGHT
TZOFFSETFROM:+0100
TZOFFSETTO:+0200
TZNAME:CEST
DTSTART:20200329T010000
END:DAYLIGHT
BEGIN:STANDARD
TZOFFSETFROM:+0200
TZOFFSETTO:+0100
TZNAME:CET
DTSTART:20201025T010000
END:STANDARD
BEGIN:DAYLIGHT
TZOFFSETFROM:+0100
TZOFFSETTO:+0200
TZNAME:CEST
DTSTART:20210328T010000
END:DAYLIGHT
BEGIN:STANDARD
TZOFFSETFROM:+0200
TZOFFSETTO:+0100
TZNAME:CET
DTSTART:20211031T010000
END:STANDARD
END:VTIMEZONE
BEGIN:VEVENT
DTSTART;VALUE=DATE:20200428
DTEND;VALUE=DATE:20200430
DTSTAMP:20260421T235459
CREATED:20200302T144033Z
LAST-MODIFIED:20200309T143722Z
UID:40762-1588032000-1588204799@gruenderfreunde.de
SUMMARY:hub.berlin
DESCRIPTION:hub.berlin gibt neue Impulse für die Digitalisierung \n§  Mehr als 10.000 Teilnehmer und 350 Sprecher am 28. und 29. April in Berlin\n§  Im Mittelpunkt: Nachhaltigkeit und digitale Souveränität\n§  Big-Data.AI Summit\, Europas größte Konferenz zu KI und Daten-Ökonomie\, findet unter einem Dach mit der hub.berlin statt. \nSchadet die Digitalisierung Umwelt und Klima\, oder können digitale Technologien vielmehr einen wichtigen Beitrag für mehr Nachhaltigkeit liefern? Wie können wir in Deutschland und\nEuropa im Zuge der Digitalisierung einseitige Abhängigkeiten verhindern oder reduzieren und unsere digitale Souveränität herstellen? Verändert die Blockchain unser Finanzwesen grundlegend? Und welche konkreten Beispiele gibt es\, wie 5G und Künstliche Intelligenz Unternehmen und deren Geschäftsmodelle grundlegend verändern?  \nDie hub.berlin am 28. und 29. April liefert Antworten auf diese Fragen. Das zweitägige Business-Festival findet in der Station Berlin unter einem Dach mit dem Big-Data.AI Summit statt\, Europas größter Konferenz zu Künstlicher Intelligenz und der Daten-Ökonomie. Erwartet werden 350 Sprecher und mehr als 10.000 Teilnehmer aus Wirtschaft\, Politik und Wissenschaft. „Wir brauchen in Deutschland mehr Mut und mehr Lust auf Digitalisierung. Die hub.berlin rückt die Chancen der Digitalisierung für Unternehmen und Gesellschaft in den Mittelpunkt – und zeigt dabei ganz konkrete Anwendungsbeispiele und Lösungen“\, sagt Bitkom-Präsident Achim Berg. „Wer wissen will\, welche Bedeutung Technologien wie KI\, Blockchain oder 5G künftig gewinnen werden\, ist bei der hub.berlin genau richtig.“ \nIhr wollt euch Tickets kaufen? Als Medienpartner bekommen wir einen exklusiven Rabatt von 30% für unsere Leser! Der Code lautet hb20-Gruenderfreunde \nteilen teilen teilen teilen 
URL:https://gruenderfreunde.de/event/hub-berlin/
LOCATION:STATION Berlin\, Luckenwalder Str. 4-6\, Berlin\, 10963\, Deutschland
ATTACH;FMTTYPE=image/png:https://gruenderfreunde.de/wp-content/uploads/hub_Media_Gruenderfreunde_300x250px-1.png
END:VEVENT
END:VCALENDAR