BEGIN:VCALENDAR
VERSION:2.0
PRODID:-//Gruenderfreunde.de - ECPv6.15.19//NONSGML v1.0//EN
CALSCALE:GREGORIAN
METHOD:PUBLISH
X-ORIGINAL-URL:https://gruenderfreunde.de
X-WR-CALDESC:Veranstaltungen für Gruenderfreunde.de
REFRESH-INTERVAL;VALUE=DURATION:PT1H
X-Robots-Tag:noindex
X-PUBLISHED-TTL:PT1H
BEGIN:VTIMEZONE
TZID:Europe/Berlin
BEGIN:DAYLIGHT
TZOFFSETFROM:+0100
TZOFFSETTO:+0200
TZNAME:CEST
DTSTART:20190331T010000
END:DAYLIGHT
BEGIN:STANDARD
TZOFFSETFROM:+0200
TZOFFSETTO:+0100
TZNAME:CET
DTSTART:20191027T010000
END:STANDARD
BEGIN:DAYLIGHT
TZOFFSETFROM:+0100
TZOFFSETTO:+0200
TZNAME:CEST
DTSTART:20200329T010000
END:DAYLIGHT
BEGIN:STANDARD
TZOFFSETFROM:+0200
TZOFFSETTO:+0100
TZNAME:CET
DTSTART:20201025T010000
END:STANDARD
BEGIN:DAYLIGHT
TZOFFSETFROM:+0100
TZOFFSETTO:+0200
TZNAME:CEST
DTSTART:20210328T010000
END:DAYLIGHT
BEGIN:STANDARD
TZOFFSETFROM:+0200
TZOFFSETTO:+0100
TZNAME:CET
DTSTART:20211031T010000
END:STANDARD
END:VTIMEZONE
BEGIN:VEVENT
DTSTART;TZID=Europe/Berlin:20200430T120000
DTEND;TZID=Europe/Berlin:20200430T140000
DTSTAMP:20260425T142134
CREATED:20200430T074858Z
LAST-MODIFIED:20200430T074858Z
UID:41590-1588248000-1588255200@gruenderfreunde.de
SUMMARY:Gemeinsames Mittagessen gegen die Corona Isolation
DESCRIPTION:Wer vermisst es nicht – das gemeinsame Mittagessen im Büro mit den Kolleginnen und Kollegen\, mit der besten Freundin im Café zu sitzen\, oder die Teilnahme an einem spannenden Experten-Kongress. All dies ist derzeit aufgrund von Covid19 leider nicht möglich ist. \nAllerdings eröffnen uns innovative Technologien und kreative Ideen\, neue Möglichkeiten\, nicht nur mit unseren Liebsten in Kontakt zu bleiben\, sondern auch neue Menschen kennenzulernen und interessante Konversationen zu führen. Genau dies hat sich die junge Plattform Veertly zum Ziel gesetzt: Menschen grenzüberschreitend miteinander zu verknüpfen\, um wertvolle Interaktionen und Beziehungen zu fördern. \nUm dieses Ziel zu verfolgen organisieren die Initiatoren Joao und Alex am 30. April von 12 Uhr bis 14 Uhr „Europas größtes virtuelles Networking Lunch“. Die Teilnahme an der online Veranstaltung ist kostenlos und für jeden unter https://veertly.com/lunch/ zugänglich. Mit einem Klick und ohne Login bzw. umständliche Installation von Software oder nervigen Plug-ins.\n  \nWie läuft das Event ab? \n\n·   Unter https://app.veertly.com/v/VirtualLunch können Sie direkt teilnehmen. Sie haben die Möglichkeit persönliche Informationen wie Name und Interessen mit anderen Teilnehmern zu teilen\, aber können auch vollkommen anonym bleiben. \n\n·   Zu Beginn landen Sie auf der virtuellen „Main Stage“. Dort wird es einen spannenden Impulsvortrag rund um das Thema  Networking von Event MC und Speaker Dan Ram geben. \n\n·   Im Anschluss wird die „Networking Area“ eröffnet\, wo Sie direkt und unkompliziert mit anderen Teilnehmern in Kontakt zu treten und sich austauschen können. In einer Konversation können bis zu vier Personen gleichzeitig sein. Diese Limitation wurde festgelegt\, um effektive Kommunikation zu ermöglichen. \n\n·   Sie können selbst entscheiden wie viele Konversation Sie führen möchte. Empfohlen wird ca. alle 15-20 Minuten eine neue Konversation zu starten.\n  \n„Geh nie alleine Essen!“ schrieb bereits der Networking-Guru und Erfolgscoach Keith Ferrazzi in seinem gleichnamigen Buch. Dies hat Veertly zu dem Networking Lunch Event inspiriert. Gemeinsam ist es möglich auch diese schweren Zeiten zu überstehen und solche Events bringen die Menschen zumindest virtuell ein Stückchen näher zusammen. \n Physical distancing und nicht social distancing! \n\nÜber Veertly \nVeertly ist ein Video-Konferenz Tool\, welches den Teilnehmern von Online-Veranstaltungen eine einmalige virtuelle Networking Erfahrung bietet. Unsere Vision ist es Menschen grenzüberschreitend miteinander zu verknüpfen\, um wertvolle Interaktionen und Beziehungen zu fördern.\nteilen teilen teilen teilen 
URL:https://gruenderfreunde.de/event/gemeinsames-mittagessen-gegen-die-corona-isolation/
ATTACH;FMTTYPE=image/jpeg:https://gruenderfreunde.de/wp-content/uploads/72932-scaled-1.jpg
END:VEVENT
END:VCALENDAR