BEGIN:VCALENDAR
VERSION:2.0
PRODID:-//Gruenderfreunde.de - ECPv6.15.19//NONSGML v1.0//EN
CALSCALE:GREGORIAN
METHOD:PUBLISH
X-WR-CALNAME:Gruenderfreunde.de
X-ORIGINAL-URL:https://gruenderfreunde.de
X-WR-CALDESC:Veranstaltungen für Gruenderfreunde.de
REFRESH-INTERVAL;VALUE=DURATION:PT1H
X-Robots-Tag:noindex
X-PUBLISHED-TTL:PT1H
BEGIN:VTIMEZONE
TZID:Europe/Berlin
BEGIN:DAYLIGHT
TZOFFSETFROM:+0100
TZOFFSETTO:+0200
TZNAME:CEST
DTSTART:20190331T010000
END:DAYLIGHT
BEGIN:STANDARD
TZOFFSETFROM:+0200
TZOFFSETTO:+0100
TZNAME:CET
DTSTART:20191027T010000
END:STANDARD
BEGIN:DAYLIGHT
TZOFFSETFROM:+0100
TZOFFSETTO:+0200
TZNAME:CEST
DTSTART:20200329T010000
END:DAYLIGHT
BEGIN:STANDARD
TZOFFSETFROM:+0200
TZOFFSETTO:+0100
TZNAME:CET
DTSTART:20201025T010000
END:STANDARD
BEGIN:DAYLIGHT
TZOFFSETFROM:+0100
TZOFFSETTO:+0200
TZNAME:CEST
DTSTART:20210328T010000
END:DAYLIGHT
BEGIN:STANDARD
TZOFFSETFROM:+0200
TZOFFSETTO:+0100
TZNAME:CET
DTSTART:20211031T010000
END:STANDARD
END:VTIMEZONE
BEGIN:VEVENT
DTSTART;TZID=Europe/Berlin:20200526T100000
DTEND;TZID=Europe/Berlin:20200527T170000
DTSTAMP:20260425T155607
CREATED:20200126T163615Z
LAST-MODIFIED:20200126T163615Z
UID:40529-1590487200-1590598800@gruenderfreunde.de
SUMMARY:jobwunder2020
DESCRIPTION:Über 75 Unternehmen und rund 2.600 Besucher*innen haben im Mai 2019 die neue Hochschulkarrieremesse »jobwunder2019« an der Technischen Universität erfolgreich verwirklicht und mitgestaltet. Mit der Start-up Gallery erhielten erstmals im Rahmen einer Karrieremesse an der TU Berlin auch eine Vielzahl von Start-ups die Möglichkeit Studierende direkt zu kontaktieren. \nAnknüpfend an den erfolgreichen Start wird auch die »jobwunder2020« vom 26.-27. Mai 2020 wieder genau dort stattfinden\, wo sich tagtäglich die Wege der Studierenden kreuzen: Im repräsentativen Lichthof und auf den angrenzenden Galerien im zentral gelegenen Hauptgebäude der Technischen Universität Berlin. Insbesondere die Start-up Gallery wurde im letzten Jahr mit großem Interesse von den Studierenden verfolgt und auch die Start-ups selbst waren mit den geführten Gesprächen sehr zufrieden – daran möchten wir in diesem Jahr gerne anknüpfen\, um qualifizierte Nachwuchskräfte und junge Unternehmen zusammenzubringen. \nteilen teilen teilen teilen 
URL:https://gruenderfreunde.de/event/jobwunder2020/
LOCATION:TU Berlin\, Straße des 17. Juni 135\, Berlin\, 10623\, Deutschland
ATTACH;FMTTYPE=image/png:https://gruenderfreunde.de/wp-content/uploads/logo-fb-big.png
END:VEVENT
END:VCALENDAR