BEGIN:VCALENDAR
VERSION:2.0
PRODID:-//Gruenderfreunde.de - ECPv6.15.19//NONSGML v1.0//EN
CALSCALE:GREGORIAN
METHOD:PUBLISH
X-ORIGINAL-URL:https://gruenderfreunde.de
X-WR-CALDESC:Veranstaltungen für Gruenderfreunde.de
REFRESH-INTERVAL;VALUE=DURATION:PT1H
X-Robots-Tag:noindex
X-PUBLISHED-TTL:PT1H
BEGIN:VTIMEZONE
TZID:Europe/Berlin
BEGIN:DAYLIGHT
TZOFFSETFROM:+0100
TZOFFSETTO:+0200
TZNAME:CEST
DTSTART:20190331T010000
END:DAYLIGHT
BEGIN:STANDARD
TZOFFSETFROM:+0200
TZOFFSETTO:+0100
TZNAME:CET
DTSTART:20191027T010000
END:STANDARD
BEGIN:DAYLIGHT
TZOFFSETFROM:+0100
TZOFFSETTO:+0200
TZNAME:CEST
DTSTART:20200329T010000
END:DAYLIGHT
BEGIN:STANDARD
TZOFFSETFROM:+0200
TZOFFSETTO:+0100
TZNAME:CET
DTSTART:20201025T010000
END:STANDARD
BEGIN:DAYLIGHT
TZOFFSETFROM:+0100
TZOFFSETTO:+0200
TZNAME:CEST
DTSTART:20210328T010000
END:DAYLIGHT
BEGIN:STANDARD
TZOFFSETFROM:+0200
TZOFFSETTO:+0100
TZNAME:CET
DTSTART:20211031T010000
END:STANDARD
END:VTIMEZONE
BEGIN:VEVENT
DTSTART;VALUE=DATE:20200910
DTEND;VALUE=DATE:20200911
DTSTAMP:20260425T203644
CREATED:20200311T172333Z
LAST-MODIFIED:20200819T181505Z
UID:41042-1599696000-1599782399@gruenderfreunde.de
SUMMARY:Gründerszene HR Day Berlin
DESCRIPTION:1 Tag\, 4 Workshops! Beim Gründerszene HR Day haben Gründer\, Personaler und HR-Interessierte die Möglichkeit von erfahrenen Experten aus dem HR-Bereich zu lernen.\nIn jeweils vier 90-minütigen Workshops werden die aktuellsten und wichtigsten Themen aus dem HR-Bereich erarbeitet. Nutze die Chance\, um mit den führenden Köpfen des Personalwesens in Austausch zu gehen und nimm das Expertenwissen zu den ausgewählten Themen aus den Workshops mit! \nInfos und Tickets bekommt ihr hier! \nteilen teilen teilen teilen 
URL:https://gruenderfreunde.de/event/gruenderszene-hr-day-berlin/
LOCATION:Barmer\, Axel-Springer-Straße 44\, Berlin\, Berlin\, 10969\, Deutschland
ATTACH;FMTTYPE=image/jpeg:https://gruenderfreunde.de/wp-content/uploads/202005_GS_HR-DAY_20200910_1200x630-1.jpg
END:VEVENT
END:VCALENDAR