BEGIN:VCALENDAR
VERSION:2.0
PRODID:-//Gruenderfreunde.de - ECPv6.15.19//NONSGML v1.0//EN
CALSCALE:GREGORIAN
METHOD:PUBLISH
X-ORIGINAL-URL:https://gruenderfreunde.de
X-WR-CALDESC:Veranstaltungen für Gruenderfreunde.de
REFRESH-INTERVAL;VALUE=DURATION:PT1H
X-Robots-Tag:noindex
X-PUBLISHED-TTL:PT1H
BEGIN:VTIMEZONE
TZID:Europe/Berlin
BEGIN:DAYLIGHT
TZOFFSETFROM:+0100
TZOFFSETTO:+0200
TZNAME:CEST
DTSTART:20210328T010000
END:DAYLIGHT
BEGIN:STANDARD
TZOFFSETFROM:+0200
TZOFFSETTO:+0100
TZNAME:CET
DTSTART:20211031T010000
END:STANDARD
BEGIN:DAYLIGHT
TZOFFSETFROM:+0100
TZOFFSETTO:+0200
TZNAME:CEST
DTSTART:20220327T010000
END:DAYLIGHT
BEGIN:STANDARD
TZOFFSETFROM:+0200
TZOFFSETTO:+0100
TZNAME:CET
DTSTART:20221030T010000
END:STANDARD
BEGIN:DAYLIGHT
TZOFFSETFROM:+0100
TZOFFSETTO:+0200
TZNAME:CEST
DTSTART:20230326T010000
END:DAYLIGHT
BEGIN:STANDARD
TZOFFSETFROM:+0200
TZOFFSETTO:+0100
TZNAME:CET
DTSTART:20231029T010000
END:STANDARD
END:VTIMEZONE
BEGIN:VEVENT
DTSTART;TZID=Europe/Berlin:20220714T190000
DTEND;TZID=Europe/Berlin:20220715T000000
DTSTAMP:20260420T184739
CREATED:20220502T095157Z
LAST-MODIFIED:20220502T095157Z
UID:49554-1657825200-1657843200@gruenderfreunde.de
SUMMARY:HR DINNER MÜNCHEN 2022
DESCRIPTION:Exklusive Dinner für einen starken Austausch\n\n\n\n\n\n\n\n\n\n\n\n\n\n\n\n\n\n\n\n\n\n\n\nDas Gründerszene HR Dinner bringt führende Köpfe der Personalszene in gehobener Atmosphäre zusammen\, um sich über branchenbezogene Herausforderungen und Trends auszutauschen. \n\n\n\n\n\n\n\n\n\n\n\n\n\n\n\n\n\n\n\n\n\n\n\n\n\n\n\n\n\n\n\n\n\n\n\nErstklassiges Networking\n\n\n\n\n\n\n\n\nMit anderen Branchengrößen aktuelle Entwicklungen diskutieren\, Ideen und Visionen teilen oder gemeinsam neue Impulse setzen? Die perfekte Plattform dafür bietet das Gründerszene HR Dinner. \n\n\n\n\n\n\n\n\n\n\n\nBranchen-Insights beim exklusiven Dinner\n\n\n\n\n\n\n\n\nInspirierende Gespräche mit Entscheidern der eigenen Branche begleitet von einem erlesenen Dinner klingen verlockend? Jedes Ticket beinhaltet ein exklusives Drei-Gänge-Menü. Den Auftakt zum Dinner und damit eine Extraportion Branchen-Insights liefert ein Interview mit einem der führenden HRler der Szene. \n\n\n\n\n\n\n\n\n\n\nteilen teilen teilen teilen 
URL:https://gruenderfreunde.de/event/hr-dinner-muenchen-2022/
LOCATION:Sir Helga\, Mariannenstraße 3\, München\, Bayern\, 80538\, Deutschland
ATTACH;FMTTYPE=image/jpeg:https://gruenderfreunde.de/wp-content/uploads/Screenshot-2022-05-02-112331.jpg
ORGANIZER;CN="Gr&uuml%3Bnderszene":MAILTO:redaktion@gruenderszene.de
END:VEVENT
END:VCALENDAR