BEGIN:VCALENDAR
VERSION:2.0
PRODID:-//Gruenderfreunde.de - ECPv6.15.19//NONSGML v1.0//EN
CALSCALE:GREGORIAN
METHOD:PUBLISH
X-ORIGINAL-URL:https://gruenderfreunde.de
X-WR-CALDESC:Veranstaltungen für Gruenderfreunde.de
REFRESH-INTERVAL;VALUE=DURATION:PT1H
X-Robots-Tag:noindex
X-PUBLISHED-TTL:PT1H
BEGIN:VTIMEZONE
TZID:Europe/Berlin
BEGIN:DAYLIGHT
TZOFFSETFROM:+0100
TZOFFSETTO:+0200
TZNAME:CEST
DTSTART:20210328T010000
END:DAYLIGHT
BEGIN:STANDARD
TZOFFSETFROM:+0200
TZOFFSETTO:+0100
TZNAME:CET
DTSTART:20211031T010000
END:STANDARD
BEGIN:DAYLIGHT
TZOFFSETFROM:+0100
TZOFFSETTO:+0200
TZNAME:CEST
DTSTART:20220327T010000
END:DAYLIGHT
BEGIN:STANDARD
TZOFFSETFROM:+0200
TZOFFSETTO:+0100
TZNAME:CET
DTSTART:20221030T010000
END:STANDARD
BEGIN:DAYLIGHT
TZOFFSETFROM:+0100
TZOFFSETTO:+0200
TZNAME:CEST
DTSTART:20230326T010000
END:DAYLIGHT
BEGIN:STANDARD
TZOFFSETFROM:+0200
TZOFFSETTO:+0100
TZNAME:CET
DTSTART:20231029T010000
END:STANDARD
END:VTIMEZONE
BEGIN:VEVENT
DTSTART;VALUE=DATE:20221022
DTEND;VALUE=DATE:20221024
DTSTAMP:20260423T091510
CREATED:20221004T054730Z
LAST-MODIFIED:20221004T054730Z
UID:50532-1666396800-1666569599@gruenderfreunde.de
SUMMARY:Entrepreneurship Summit 2022
DESCRIPTION:Der analoge Teil des Entrepreneurship Summits findet in Berlin statt. Expertinnen aus den unterschiedlichsten Bereichen des Entrepreneurship nehmen Dich mit auf ihre persönliche Reise\, mit allen Ecken und Kanten und geben Dir für Deine Gründung(en) wertvolle Einblicke. \nAber es geht nicht nur ums Zuhören\, sondern auch ums Anpacken und Mitmachen. Unzählige Workshops helfen Dir\, Gelerntes schnell in die Tat umzusetzen. Du kannst Deine Gründungsideen vor erfahrenen Gründerinnen pitchen und wertvolles Feedback erhalten. Über 100 Speakerinnen werden ihr Wissen an Dich weitergeben: von Gründer für Gründer. Der Entrepreneurship Summit als Startschuss ins spannende Gründerabenteuer. \nUnd noch etwas: Wir geben 10 Gründerinnen die Möglichkeit den ersten Proof of Concept (Markttest) durchzuführen: Vor über 1000 Teilnehmern kannst Du Dein Produkt pitchen und erste Kunden gewinnen. Wie Du Dich dafür bewerben kannst\, liest Du hier. \nNutz die Vernetzungsmöglichkeiten\, die Fragerunden\, die Workshops. Wir freuen uns auf Dich! \nSicher Dir schnell eines der begrenzten Tickets. \n—Mit dem Code “gruenderfreunde” könnt Ihr Euch 15% Rabatt sichern!—\nhttps://www.entrepreneurship.de/summit/tickets/ \nteilen teilen teilen teilen 
URL:https://gruenderfreunde.de/event/entrepreneurship-summit-2022/
LOCATION:Freie Universität Berlin\, Kaiserswerther Str. 16-18\, Berlin\, Berlin\, 14195\, Deutschland
ATTACH;FMTTYPE=image/jpeg:https://gruenderfreunde.de/wp-content/uploads/Screenshot-2022-10-04-074457.jpg
ORGANIZER;CN="Stiftung Entrepreneurship %E2%80%93 Faltin Stiftung":MAILTO:stiftung@entrepreneurship.de
END:VEVENT
END:VCALENDAR