BEGIN:VCALENDAR
VERSION:2.0
PRODID:-//Gruenderfreunde.de - ECPv6.15.19//NONSGML v1.0//EN
CALSCALE:GREGORIAN
METHOD:PUBLISH
X-WR-CALNAME:Gruenderfreunde.de
X-ORIGINAL-URL:https://gruenderfreunde.de
X-WR-CALDESC:Veranstaltungen für Gruenderfreunde.de
REFRESH-INTERVAL;VALUE=DURATION:PT1H
X-Robots-Tag:noindex
X-PUBLISHED-TTL:PT1H
BEGIN:VTIMEZONE
TZID:Europe/Berlin
BEGIN:DAYLIGHT
TZOFFSETFROM:+0100
TZOFFSETTO:+0200
TZNAME:CEST
DTSTART:20190331T010000
END:DAYLIGHT
BEGIN:STANDARD
TZOFFSETFROM:+0200
TZOFFSETTO:+0100
TZNAME:CET
DTSTART:20191027T010000
END:STANDARD
BEGIN:DAYLIGHT
TZOFFSETFROM:+0100
TZOFFSETTO:+0200
TZNAME:CEST
DTSTART:20200329T010000
END:DAYLIGHT
BEGIN:STANDARD
TZOFFSETFROM:+0200
TZOFFSETTO:+0100
TZNAME:CET
DTSTART:20201025T010000
END:STANDARD
BEGIN:DAYLIGHT
TZOFFSETFROM:+0100
TZOFFSETTO:+0200
TZNAME:CEST
DTSTART:20210328T010000
END:DAYLIGHT
BEGIN:STANDARD
TZOFFSETFROM:+0200
TZOFFSETTO:+0100
TZNAME:CET
DTSTART:20211031T010000
END:STANDARD
END:VTIMEZONE
BEGIN:VEVENT
DTSTART;TZID=Europe/Berlin:20200312T170000
DTEND;TZID=Europe/Berlin:20200312T180000
DTSTAMP:20260421T204734
CREATED:20200126T161255Z
LAST-MODIFIED:20200126T161255Z
UID:40523-1584032400-1584036000@gruenderfreunde.de
SUMMARY:Eisbrecher-Netzwerkevent auf der Leipziger Buchmesse
DESCRIPTION:Liebe Start-ups\, vom 12.-15. März findet die Leipziger Buchmesse statt und schon jetzt möchten wir euch ganz herzlich zu einem neuen Eisbrecher-Netzwerkevent auf der größten deutschen Publikumsmesse für Bücher einladen. Unsere Netzwerktreffen brechen das Eis zwischen alt und neu und verbinden Start-ups mit Branchenteilnehmern. \nIm Rahmen des Eisbrechers habt ihr die Möglichkeit\, euch und eure innovativen Ideen für die Buchbranche in einem kurzen Pitch zu präsentieren und in einer angeknüpften Gesprächsrunde in den Austausch mit allen Teilnehmern zu treten. Wenn ihr Interesse habt\, mit oder ohne Pitch teilzunehmen\, gebt uns gerne Bescheid an startup@boev.de. \nMitglieder des CONTENTshift startup clubs bekommen ein Freiticket für die Messe und werden bei der Auswahl der Pitchs bevorzugt.\nMehr Informationen über die Vorteile unseres startup clubs findet ihr auf unserer Website. \nWenn ihr weitere Fragen zur Mitgliedschaft habt\, schreibt uns gerne an startup@boev.de. Hier nochmal alle wichtigen Daten auf einen Blick: \nWann? Donnerstag\, 12. März 2020\, 17-18 Uhr \nWo? Forum Meet & Read (Halle 5\, D 602)\, Leipziger Buchmesse \nWir freuen uns über eure Teilnahme und bitten um Anmeldung mit oder ohne Pitch unter startup@boev.de. \nteilen teilen teilen teilen 
URL:https://gruenderfreunde.de/event/eisbrecher-netzwerkevent-auf-der-leipziger-buchmesse/
LOCATION:Leipziger Buchmesse\, Messe-Allee 1\, Leipzig\, 04356\, Deutschland
ATTACH;FMTTYPE=image/jpeg:https://gruenderfreunde.de/wp-content/uploads/a5dc2e8ed593-Eisbrecher_Abend_Visual_500x263_LBM2020.jpg
END:VEVENT
BEGIN:VEVENT
DTSTART;VALUE=DATE:20200317
DTEND;VALUE=DATE:20200320
DTSTAMP:20260421T204734
CREATED:20191021T180217Z
LAST-MODIFIED:20191021T180217Z
UID:39413-1584403200-1584662399@gruenderfreunde.de
SUMMARY:DATA festival
DESCRIPTION:Das DATA festival geht in die dritte Runde. Vom 17. bis zum 19. März 2020 treffen in München wieder die führenden Köpfe aus den Bereichen Data\, Machine Learning und AI aufeinander – und diskutieren über die Rolle Deutschlands im globalen AI-Vergleich. \nDas Event bildet die zentrale und innovative Plattform im deutschsprachigen Raum\, die Daten-Experten und Anwender zusammenbringt und das Networking fördert. Außerdem erwarten die Teilnehmer spannende Use-Cases\, Workshops\, Tech-Deep-Dives\, Panels und Networking-Sessions rund um Data und AI – und das in entspannter Festival-Atmosphäre. \nWeitere Infos könnt ihr euch hier holen \nteilen teilen teilen teilen 
URL:https://gruenderfreunde.de/event/data-festival/
LOCATION:München Muffatwerk\, Zellstraße 4\, München\, 81667\, Deutschland
END:VEVENT
BEGIN:VEVENT
DTSTART;VALUE=DATE:20200323
DTEND;VALUE=DATE:20200329
DTSTAMP:20260421T204734
CREATED:20200214T190515Z
LAST-MODIFIED:20200214T190515Z
UID:40678-1584921600-1585439999@gruenderfreunde.de
SUMMARY:100² | Prototypenwoche Wendland
DESCRIPTION:Bei der 100² | Prototypenwoche hast Du die Möglichkeit\, Deinen ersten\, funktionierenden Prototypen zu entwickeln. Du bist Bastler*in\, Tüftler*in\, Produkt-/ Industriedesigner*in oder Maschinenbauer*in und möchtest Deine Idee endlich umsetzen? Dann bewirb Dich als Einzelperson oder im Team. \nMithilfe von interdisziplinären Coaches und der fachlichen Expertise der Firma RiMaTec entwickelst Du innerhalb von sechs Tagen Deinen Prototypen und stellst diesen bei der großen Abschlussveranstaltung vor. Die Anmeldung\, Einreichung und Teilnahme an der Prototypen Woche sind kostenfrei. \n  \nBEWERBUNG UND FRIST \nBewirb Dich mit einem kurzen Pitch Deiner Idee und erzähle uns von Dir. Wer bist Du\, was machst Du und was ist an Deiner Idee besonders? Anmeldeschluss ist der 06. März 2020. \n\n\n\n\n\n\n\n\n\n\n\n\n\nANMELDUNGEN \nPer Post oder Mail an Christof Jens und Madeline Jost \nPOST: WendlandLabor\, Salzwedeler Straße 13\, 29439 Lüchow\nMAIL: info@wendlandlabor.de \n\n\n\nteilen teilen teilen teilen 
URL:https://gruenderfreunde.de/event/100%c2%b2-prototypenwoche-wendland/
LOCATION:100² Innovationsspace @ RiMaTec\, An der B216 1A\, Riskau/Dannenberg\, 29451\, Deutschland
ATTACH;FMTTYPE=image/png:https://gruenderfreunde.de/wp-content/uploads/83685910_190720675636733_8034707956144537600_o.png
END:VEVENT
END:VCALENDAR