BEGIN:VCALENDAR
VERSION:2.0
PRODID:-//Gruenderfreunde.de - ECPv6.15.19//NONSGML v1.0//EN
CALSCALE:GREGORIAN
METHOD:PUBLISH
X-WR-CALNAME:Gruenderfreunde.de
X-ORIGINAL-URL:https://gruenderfreunde.de
X-WR-CALDESC:Veranstaltungen für Gruenderfreunde.de
REFRESH-INTERVAL;VALUE=DURATION:PT1H
X-Robots-Tag:noindex
X-PUBLISHED-TTL:PT1H
BEGIN:VTIMEZONE
TZID:Europe/Berlin
BEGIN:DAYLIGHT
TZOFFSETFROM:+0100
TZOFFSETTO:+0200
TZNAME:CEST
DTSTART:20190331T010000
END:DAYLIGHT
BEGIN:STANDARD
TZOFFSETFROM:+0200
TZOFFSETTO:+0100
TZNAME:CET
DTSTART:20191027T010000
END:STANDARD
BEGIN:DAYLIGHT
TZOFFSETFROM:+0100
TZOFFSETTO:+0200
TZNAME:CEST
DTSTART:20200329T010000
END:DAYLIGHT
BEGIN:STANDARD
TZOFFSETFROM:+0200
TZOFFSETTO:+0100
TZNAME:CET
DTSTART:20201025T010000
END:STANDARD
BEGIN:DAYLIGHT
TZOFFSETFROM:+0100
TZOFFSETTO:+0200
TZNAME:CEST
DTSTART:20210328T010000
END:DAYLIGHT
BEGIN:STANDARD
TZOFFSETFROM:+0200
TZOFFSETTO:+0100
TZNAME:CET
DTSTART:20211031T010000
END:STANDARD
END:VTIMEZONE
BEGIN:VEVENT
DTSTART;VALUE=DATE:20200825
DTEND;VALUE=DATE:20200826
DTSTAMP:20260425T172852
CREATED:20200311T175226Z
LAST-MODIFIED:20200819T180929Z
UID:41050-1598313600-1598399999@gruenderfreunde.de
SUMMARY:Startup meets Mittelstand Online
DESCRIPTION:Allfoye lädt gemeinsam mit Gründerszene Spätschicht zum gemeinsamen Startup meets Mittelstand-Event ein.\nStartup meets Mittelstand ist ein Networking-Event\, bei dem etablierte Mittelständler und Startups aufeinandertreffen. Im Fokus der Veranstaltung steht der Austausch\, der durch ein lockeres Bühnenprogramm angeregt wird. Werdet Teil der Community\, lernt Akteure aus verschiedenen Branchen kennen und freut euch auf eine handverlesene Gästeliste\, die interessante Networking-Möglichkeiten und potenzielle Kooperationspartner verspricht. \nJetzt bewerben\, Ticketlink erhalten und dabei sein. \nInfos und Tickets gibt es hier! \nteilen teilen teilen teilen 
URL:https://gruenderfreunde.de/event/startup-meets-mittelstand-berlin/
ATTACH;FMTTYPE=image/jpeg:https://gruenderfreunde.de/wp-content/uploads/202005_StartupmeetsMittelstand_20200825_Bannerset_Berlin_930x620_online-1.jpg
END:VEVENT
END:VCALENDAR